BEGIN:VCALENDAR
VERSION:2.0
PRODID:-//Długi Dystans Rowerem - ECPv6.15.17//NONSGML v1.0//EN
CALSCALE:GREGORIAN
METHOD:PUBLISH
X-ORIGINAL-URL:https://dlugidystansrowerem.pl
X-WR-CALDESC:Wydarzenia dla Długi Dystans Rowerem
REFRESH-INTERVAL;VALUE=DURATION:PT1H
X-Robots-Tag:noindex
X-PUBLISHED-TTL:PT1H
BEGIN:VTIMEZONE
TZID:Europe/Warsaw
BEGIN:DAYLIGHT
TZOFFSETFROM:+0100
TZOFFSETTO:+0200
TZNAME:CEST
DTSTART:20210328T010000
END:DAYLIGHT
BEGIN:STANDARD
TZOFFSETFROM:+0200
TZOFFSETTO:+0100
TZNAME:CET
DTSTART:20211031T010000
END:STANDARD
BEGIN:DAYLIGHT
TZOFFSETFROM:+0100
TZOFFSETTO:+0200
TZNAME:CEST
DTSTART:20220327T010000
END:DAYLIGHT
BEGIN:STANDARD
TZOFFSETFROM:+0200
TZOFFSETTO:+0100
TZNAME:CET
DTSTART:20221030T010000
END:STANDARD
BEGIN:DAYLIGHT
TZOFFSETFROM:+0100
TZOFFSETTO:+0200
TZNAME:CEST
DTSTART:20230326T010000
END:DAYLIGHT
BEGIN:STANDARD
TZOFFSETFROM:+0200
TZOFFSETTO:+0100
TZNAME:CET
DTSTART:20231029T010000
END:STANDARD
BEGIN:DAYLIGHT
TZOFFSETFROM:+0100
TZOFFSETTO:+0200
TZNAME:CEST
DTSTART:20240331T010000
END:DAYLIGHT
BEGIN:STANDARD
TZOFFSETFROM:+0200
TZOFFSETTO:+0100
TZNAME:CET
DTSTART:20241027T010000
END:STANDARD
BEGIN:DAYLIGHT
TZOFFSETFROM:+0100
TZOFFSETTO:+0200
TZNAME:CEST
DTSTART:20250330T010000
END:DAYLIGHT
BEGIN:STANDARD
TZOFFSETFROM:+0200
TZOFFSETTO:+0100
TZNAME:CET
DTSTART:20251026T010000
END:STANDARD
END:VTIMEZONE
BEGIN:VEVENT
DTSTART;TZID=Europe/Warsaw:20240629T063000
DTEND;TZID=Europe/Warsaw:20240630T120000
DTSTAMP:20260419T160055
CREATED:20240113T144907Z
LAST-MODIFIED:20240113T144907Z
UID:7951-1719642600-1719748800@dlugidystansrowerem.pl
SUMMARY:Pogranicza Gravel 2024
DESCRIPTION:Pogranicze województw. Pogranicze regionu Kujaw i Wielkopolski. Historyczne pogranicze dwóch zaborów – niemieckiego i ruskiego (vel. pruskiego i rosyjskiego). Pomysł na Pograniczagravel 2024 to chęć zaprezentowania tych okolic szerszej rzeszy miłośników włóczęgi rowerowej (nie wyłączając romantycznych ścigaczy). Teren kujawskiego pojezierza i wschodniej części pojezierza gnieźnieńskiego powoli zatraca swój charakter. Jeziora wysychają\, ziemia stepowieje\, polne drogi zanikają. Być może to ostatnie lata\, aby poczuć „smak” tych okolic.
URL:https://dlugidystansrowerem.pl/event/pogranicza-gravel-2024/
LOCATION:Radziejów\, Sportowa 1\, Radziejów\, Kujawsko-Pomorskie\, 88-200\, Poland
CATEGORIES:Gravel
ATTACH;FMTTYPE=image/png:https://dlugidystansrowerem.pl/wp-content/uploads/2024/01/POGRANICZA.png
END:VEVENT
BEGIN:VEVENT
DTSTART;VALUE=DATE:20230819
DTEND;VALUE=DATE:20230823
DTSTAMP:20260419T160055
CREATED:20210125T193547Z
LAST-MODIFIED:20230117T092716Z
UID:2717-1692403200-1692748799@dlugidystansrowerem.pl
SUMMARY:Robinsonada kujawsko-pomorska
DESCRIPTION:Robinsonada to ultramaraton rowerowy o charakterze gravelowym o umiarkowanym stopniu trudności. Jest wydarzeniem survivalowo-bikepackingowym\, tak więc zadaniem Uczestników jest nie tylko rozłożenie własnych sił\, ale również dobór odpowiedniego ekwipunku niezbędnego do przeżycia tej wspaniałej przygody i stania się prawdziwym Robinsonem! \nRobinsonada to piękne krajobrazy\, niezapomniane doznania a przede wszystkim Ludzie – tacy\, którzy czują więcej i chcą więcej. Dlatego wsiadają na rower i rozwijają skrzydła. Niosą ich dwa koła\, ale przede wszystkim pasja\, marzenia\, siła charakteru i pragnienie przeżycia czegoś niezwykłego… \nUczestniku! Przed Tobą przygoda\, tajemnica oraz współzawodnictwo – ale takie wiesz\, z dyskretnym mrugnięciem do siebie. \nUczestnicy Robinsonady już to wiedzą – przekonajcie się i Wy! Zmierzcie się nie tylko z naszą trasą\, ale i z samym sobą. \nW roku 2023 Robinsonada odbędzie się w dwóch województwach w następujących terminach: \n\nwoj. mazowieckie (Warszawa) – 29.07 – 1.08\nwoj. kujawsko-pomorskie (Toruń) – 19 – 22.08\n\nTrasy: \n\nbiała – ok 150 km\nzielona – ok 250 km\npomarańczowa – ok 500 km\n\nOpłata startowa zależy od wybranej trasy i daty płatności: \n\ntrasa biała:\n\n15.11 – 31.12.2022 r.: 229 zł\, z koszulką okolicznościową: 265 zł;\n01.01 – 31.03.2023 r.: 259 zł\, z koszulką okolicznościową: 295 zł;\n01.04 – 31.05.2023 r.: 279 zł\, z koszulką okolicznościową: 315 zł;\nod 01.06.2023 r.: 299 zł\, z koszulką okolicznościową: 335 zł;\n\n\ntrasa zielona:\n\n15.11 – 31.12.2022 r.: 249 zł\, z koszulką okolicznościową: 285 zł;\n01.01 – 31.03.2023 r.: 279 zł\, z koszulką okolicznościową: 315 zł;\n01.04 – 31.05.2023 r.: 299 zł\, z koszulką okolicznościową: 335 zł;\nod 01.06.2023 r.: 319 zł\, z koszulką okolicznościową: 355 zł;\n\n\ntrasa pomarańczowa:\n\n15.11 – 31.12.2022 r.: 269 zł\, z koszulką okolicznościową: 305 zł;\n01.01 – 31.03.2023 r.: 299 zł\, z koszulką okolicznościową: 335 zł;\n01.04 – 31.05.2023 r.: 319 zł\, z koszulką okolicznościową: 355 zł;\nod 01.06.2023 r.: 339 zł\, z koszulką okolicznościową: 375 zł;
URL:https://dlugidystansrowerem.pl/event/robinsonada-kujawsko-pomorska/
LOCATION:Toruń\, Toruń\, kujawsko-pomorskie
CATEGORIES:Gravel
ATTACH;FMTTYPE=image/png:https://dlugidystansrowerem.pl/wp-content/uploads/2021/01/robinsonada.png
ORGANIZER;CN="Rados%C5%82aw Bielecki":MAILTO:biuro@robinsonada.com.pl
END:VEVENT
BEGIN:VEVENT
DTSTART;VALUE=DATE:20230729
DTEND;VALUE=DATE:20230802
DTSTAMP:20260419T160055
CREATED:20230110T090224Z
LAST-MODIFIED:20230117T092652Z
UID:7024-1690588800-1690934399@dlugidystansrowerem.pl
SUMMARY:Robinsonada mazowiecka
DESCRIPTION:Robinsonada to ultramaraton rowerowy o charakterze gravelowym o umiarkowanym stopniu trudności. Jest wydarzeniem survivalowo-bikepackingowym\, tak więc zadaniem Uczestników jest nie tylko rozłożenie własnych sił\, ale również dobór odpowiedniego ekwipunku niezbędnego do przeżycia tej wspaniałej przygody i stania się prawdziwym Robinsonem! \nRobinsonada to piękne krajobrazy\, niezapomniane doznania a przede wszystkim Ludzie – tacy\, którzy czują więcej i chcą więcej. Dlatego wsiadają na rower i rozwijają skrzydła. Niosą ich dwa koła\, ale przede wszystkim pasja\, marzenia\, siła charakteru i pragnienie przeżycia czegoś niezwykłego… \nUczestniku! Przed Tobą przygoda\, tajemnica oraz współzawodnictwo – ale takie wiesz\, z dyskretnym mrugnięciem do siebie. \nUczestnicy Robinsonady już to wiedzą – przekonajcie się i Wy! Zmierzcie się nie tylko z naszą trasą\, ale i z samym sobą. \nW roku 2023 Robinsonada odbędzie się w dwóch województwach w następujących terminach: \n\nwoj. mazowieckie (Warszawa) – 29.07 – 1.08\nwoj. kujawsko-pomorskie (Toruń) – 19 – 22.08\n\nTrasy: \n\nbiała – ok 150 km\nzielona – ok 250 km\npomarańczowa – ok 500 km\n\nOpłata startowa zależy od wybranej trasy i daty płatności: \n\ntrasa biała:\n\n15.11 – 31.12.2022 r.: 229 zł\, z koszulką okolicznościową: 265 zł;\n01.01 – 31.03.2023 r.: 259 zł\, z koszulką okolicznościową: 295 zł;\n01.04 – 31.05.2023 r.: 279 zł\, z koszulką okolicznościową: 315 zł;\nod 01.06.2023 r.: 299 zł\, z koszulką okolicznościową: 335 zł;\n\n\ntrasa zielona:\n\n15.11 – 31.12.2022 r.: 249 zł\, z koszulką okolicznościową: 285 zł;\n01.01 – 31.03.2023 r.: 279 zł\, z koszulką okolicznościową: 315 zł;\n01.04 – 31.05.2023 r.: 299 zł\, z koszulką okolicznościową: 335 zł;\nod 01.06.2023 r.: 319 zł\, z koszulką okolicznościową: 355 zł;\n\n\ntrasa pomarańczowa:\n\n15.11 – 31.12.2022 r.: 269 zł\, z koszulką okolicznościową: 305 zł;\n01.01 – 31.03.2023 r.: 299 zł\, z koszulką okolicznościową: 335 zł;\n01.04 – 31.05.2023 r.: 319 zł\, z koszulką okolicznościową: 355 zł;\nod 01.06.2023 r.: 339 zł\, z koszulką okolicznościową: 375 zł;
URL:https://dlugidystansrowerem.pl/event/robinsonada-mazowiecka/
LOCATION:Warszawa\, Warszawa\, Poland
CATEGORIES:Gravel
ATTACH;FMTTYPE=image/png:https://dlugidystansrowerem.pl/wp-content/uploads/2021/01/robinsonada.png
ORGANIZER;CN="Rados%C5%82aw Bielecki":MAILTO:biuro@robinsonada.com.pl
END:VEVENT
BEGIN:VEVENT
DTSTART;VALUE=DATE:20220528
DTEND;VALUE=DATE:20220530
DTSTAMP:20260419T160055
CREATED:20210111T190124Z
LAST-MODIFIED:20220102T174224Z
UID:2618-1653696000-1653868799@dlugidystansrowerem.pl
SUMMARY:Krwawa Pętla (250 km)
DESCRIPTION:Krwawa Pętla – owiana legendami trasa terenowa wiodąca dookoła Warszawy.\nCzy zasługuje na miano „krwawej”? Ile trzeba by zdobyć ją rowerem? Czy dasz radę?\nSprawdź.
URL:https://dlugidystansrowerem.pl/event/krwawa-petla/
LOCATION:Hala Sportowa w Łazach\, Ks. Henryka Słojewskiego 1\, Łazy\, mazowieckie\, Poland
CATEGORIES:Gravel
ATTACH;FMTTYPE=image/png:https://dlugidystansrowerem.pl/wp-content/uploads/2021/01/krwawa-petla-250-km.png
END:VEVENT
BEGIN:VEVENT
DTSTART;VALUE=DATE:20220430
DTEND;VALUE=DATE:20220502
DTSTAMP:20260419T160055
CREATED:20210121T112632Z
LAST-MODIFIED:20220102T130432Z
UID:2513-1651276800-1651449599@dlugidystansrowerem.pl
SUMMARY:Piękny Wschód (250\, 500 km)
DESCRIPTION:Piękny Wschód jest ultramaratonem przeznaczonym dla amatorów kolarstwa szosowego. Rozgrywany jest w kategoriach solo\, open\, team/support. Zawodnicy mają do wyboru jeden z dwóch dystansów: \n\n250 km\n500 km\n\nDystans 500 km jest kwalifikacją do Bałtyk Bieszczady Tour 2022. Aby uzyskać kwalifikację\, dystans należy pokonać w limicie czasu wynoszącym 26 godzin\, a uczestnik musi mieć ukończone conajmniej 23 lata. \n\n\n\nDo zawodów zostaną dopuszczeni zawodnicy\, którzy ukończyli 18 rok życia i złożą organizatorowi oświadczenie o stanie zdrowia umożliwiającym udział oraz o starcie na własną odpowiedzialność. Obowiązuje okazanie osobistego ubezpieczenia OC i NNW na czas zawodów lub podpisanie oświadczenia o stanie zdrowia.
URL:https://dlugidystansrowerem.pl/event/piekny-wschod-250-km-500-km/
LOCATION:Stadion MOSiR Parczew\, al. Jana Pawła II 1\, Parczew\, lubelskie\, 21-200\, Poland
CATEGORIES:Szosa
ATTACH;FMTTYPE=image/png:https://dlugidystansrowerem.pl/wp-content/uploads/2019/11/Piękny-Wschód-ultramaraton-logo.png
ORGANIZER;CN="Parczewska Grupa Rowerowa":MAILTO:biuro@lubelskavuelta.pl
END:VEVENT
END:VCALENDAR