BEGIN:VCALENDAR
VERSION:2.0
PRODID:-//Długi Dystans Rowerem - ECPv6.15.20//NONSGML v1.0//EN
CALSCALE:GREGORIAN
METHOD:PUBLISH
X-ORIGINAL-URL:https://dlugidystansrowerem.pl
X-WR-CALDESC:Wydarzenia dla Długi Dystans Rowerem
REFRESH-INTERVAL;VALUE=DURATION:PT1H
X-Robots-Tag:noindex
X-PUBLISHED-TTL:PT1H
BEGIN:VTIMEZONE
TZID:Europe/Warsaw
BEGIN:DAYLIGHT
TZOFFSETFROM:+0100
TZOFFSETTO:+0200
TZNAME:CEST
DTSTART:20200329T010000
END:DAYLIGHT
BEGIN:STANDARD
TZOFFSETFROM:+0200
TZOFFSETTO:+0100
TZNAME:CET
DTSTART:20201025T010000
END:STANDARD
BEGIN:DAYLIGHT
TZOFFSETFROM:+0100
TZOFFSETTO:+0200
TZNAME:CEST
DTSTART:20210328T010000
END:DAYLIGHT
BEGIN:STANDARD
TZOFFSETFROM:+0200
TZOFFSETTO:+0100
TZNAME:CET
DTSTART:20211031T010000
END:STANDARD
BEGIN:DAYLIGHT
TZOFFSETFROM:+0100
TZOFFSETTO:+0200
TZNAME:CEST
DTSTART:20220327T010000
END:DAYLIGHT
BEGIN:STANDARD
TZOFFSETFROM:+0200
TZOFFSETTO:+0100
TZNAME:CET
DTSTART:20221030T010000
END:STANDARD
BEGIN:DAYLIGHT
TZOFFSETFROM:+0100
TZOFFSETTO:+0200
TZNAME:CEST
DTSTART:20230326T010000
END:DAYLIGHT
BEGIN:STANDARD
TZOFFSETFROM:+0200
TZOFFSETTO:+0100
TZNAME:CET
DTSTART:20231029T010000
END:STANDARD
END:VTIMEZONE
BEGIN:VEVENT
DTSTART;VALUE=DATE:20220430
DTEND;VALUE=DATE:20220502
DTSTAMP:20260425T134628
CREATED:20210121T112632Z
LAST-MODIFIED:20220102T130432Z
UID:2513-1651276800-1651449599@dlugidystansrowerem.pl
SUMMARY:Piękny Wschód (250\, 500 km)
DESCRIPTION:Piękny Wschód jest ultramaratonem przeznaczonym dla amatorów kolarstwa szosowego. Rozgrywany jest w kategoriach solo\, open\, team/support. Zawodnicy mają do wyboru jeden z dwóch dystansów: \n\n250 km\n500 km\n\nDystans 500 km jest kwalifikacją do Bałtyk Bieszczady Tour 2022. Aby uzyskać kwalifikację\, dystans należy pokonać w limicie czasu wynoszącym 26 godzin\, a uczestnik musi mieć ukończone conajmniej 23 lata. \n\n\n\nDo zawodów zostaną dopuszczeni zawodnicy\, którzy ukończyli 18 rok życia i złożą organizatorowi oświadczenie o stanie zdrowia umożliwiającym udział oraz o starcie na własną odpowiedzialność. Obowiązuje okazanie osobistego ubezpieczenia OC i NNW na czas zawodów lub podpisanie oświadczenia o stanie zdrowia.
URL:https://dlugidystansrowerem.pl/event/piekny-wschod-250-km-500-km/
LOCATION:Stadion MOSiR Parczew\, al. Jana Pawła II 1\, Parczew\, lubelskie\, 21-200\, Poland
CATEGORIES:Szosa
ATTACH;FMTTYPE=image/png:https://dlugidystansrowerem.pl/wp-content/uploads/2019/11/Piękny-Wschód-ultramaraton-logo.png
ORGANIZER;CN="Parczewska Grupa Rowerowa":MAILTO:biuro@lubelskavuelta.pl
END:VEVENT
BEGIN:VEVENT
DTSTART;VALUE=DATE:20210917
DTEND;VALUE=DATE:20210920
DTSTAMP:20260425T134628
CREATED:20210125T213844Z
LAST-MODIFIED:20210125T115055Z
UID:2742-1631836800-1632095999@dlugidystansrowerem.pl
SUMMARY:Great Lakes Gravel - 470 km
DESCRIPTION:Great Lakes Gravel to Ultramaraton rowerowy po najlepszych szutrach Warmii i Mazur. \nGreat Lakes Gravel to coś więcej niż wyścig\, to wielka przygoda\, która zaprasza do Krainy Tysiąca Jezior na najlepsze szutrowe drogi w Polsce. Już we wrześniu będziecie mogli zmierzyć się z trasą\, która nie tylko oczaruje i zachwyci\, ale także będzie prawdziwym sprawdzianem dla głowy i ciała. Jeżeli myśleliście\, że widok graveli na szutrowych autostradach dostępny jest tylko w materiałach marketingowych\, to tutaj dostaniecie szansę doświadczenia tego naprawdę. \nJak przystało na ultra wyścig\, formuła zakłada pełną samowystarczalność. Do pokonania będzie pętla o długości 480 km\, na którą przewidziany jest limit czasowy 63 godzin. W tym czasie zmierzycie się z trasą\, która absolutnie Was zachwyci. Prowadzi bowiem przez najpiękniejsze zakątki geograficznych i historycznych Mazur. Rozpoczniemy jednak na Warmii\, w miejscowości Wilimy nad Jeziorem Dadaj i tu także zakończymy zmagania. Oczywiście widoki\, które zobaczycie złagodzą jedynie wysiłek\, który trzeba będzie włożyć w pokonanie pętli\, bo ma to być wyzwanie dla ducha i ciała. \nMotywem przewodnim trasy są oczywiście jeziora\, nie mogło być inaczej w przypadku tego miejsca. To one wyznaczają krętą drogę\, która prawdopodobnie ani przez chwilę nie będzie płaska. Przed Wami każdy rodzaj nawierzchni\, a więc szuter\, bruk\, leśne ścieżki i odcinki asfaltowe. To jednak szuter będzie esencją tego wyścigu\, pojedziecie drogami\, które można wklejać do rowerowych pocztówek. \nLekko nie będzie! Już po starcie czeka Was sporo podjazdów. Pętla prowadzi na północ\, gdzie miniemy dawną kwaterę Hitlera\, czyli Wilczy Szaniec\, by popędzić w kierunku Węgorzewa i Jeziora Dargin i Mamry\, które przetniemy urokliwą drogą przez port w Sztynorcie. Następnie wkroczymy na szlak Mazur Garbatych przemierzając Puszczę Borecką w kierunku Gołdapi. Tam czeka Was festiwal podjazdów (i zjazdów) ze wspinaczką pod Gołdapską Górę włącznie. Następnie wkroczymy do oszałamiającej Puszczy Rominckiej\, którą przekroczymy śladami jej legendarnych jeleni aż do słynnych mostów w Stańczykach. Stamtąd przez Dolinę Rospudy wjedziecie na szutrowe autostrady znane między innymi z tras Rajdu Polski. Nie zabraknie także Jeziora Śniardwy\, którego północnym przebiegiem przejedziemy do Mikołajek i stamtąd pięknymi szutrami\, a następnie przez Górę Czterech Wiatrów wprost do Mrągowa. To\, co dodatkowo zobaczycie po drodze\, będzie już wyłącznie Waszym przeżyciem\, którego nikt nie zabierze. \nZałożeniem było stworzenie pętli ze startem i metą w tym samym miejscu. Dzięki temu nie będzie skomplikowanej logistyki\, możecie na start dojechać swoim samochodem i wrócić tak samo do domu\, bez konieczności angażowania wielu osób do przywiezienia na start czy odbioru na mecie. Oczywiście taktyka na przejechanie trasy będzie dowolna\, ale zaplanowaliśmy ją w regionie atrakcyjnym turystycznie\, dlatego nie będziecie mieć problemu ze znalezieniem noclegu pod dachem. Każdy z uczestników otrzyma tracker\, dzięki czemu będzie można śledzić jego pozycję live na stronie wyścigu. Mimo\, że motywem przewodnim jest szuter w nazwie nie faworyzujemy graveli. Zapraszamy każdego na każdym rowerze\, ograniczeniem jest tylko wyobraźnia. \nźródło: materiały prasowe \nOpis pochodzi ze strony internetowej Organizatora. Administrator Portalu dokłada wszelkich starań aby informacje tutaj zawarte były aktualne i zgodne ze stanem podawanym przez Organizatora\, jednak nie bierze za nie odpowiedzialności. Zalecamy zapoznać się z regulaminem imprezy dostępnym na oficjalnej stronie wydarzenia oraz śledzić komunikaty startowe.
URL:https://dlugidystansrowerem.pl/event/great-lakes-gravel-470-km/
LOCATION:Gościniec Pod Dębem\, Biskupiec\, Wilimy 5\, Biskupiec\, warmińsko-mazurskie\, 11-300\, Poland
CATEGORIES:Gravel
ATTACH;FMTTYPE=image/png:https://dlugidystansrowerem.pl/wp-content/uploads/2021/01/gr8-lakes-gravel-logo-2021.png
END:VEVENT
BEGIN:VEVENT
DTSTART;VALUE=DATE:20210812
DTEND;VALUE=DATE:20210816
DTSTAMP:20260425T134628
CREATED:20210125T190355Z
LAST-MODIFIED:20210125T071128Z
UID:2708-1628726400-1629071999@dlugidystansrowerem.pl
SUMMARY:P-G-R  500 km
DESCRIPTION:P-G-R czyli Poland Gravel Race. \nTrasa PGR liczy 500 km i ok 10 000m podjazdów. Choć wymagająca\, to ciekawa i całkowicie przejezdna. Przemierzamy Pogórze Przemyskie\, Bieszczady\, Beskid Niski\, Beskid Sądecki\, Pieniny i Tatry. \n  \nOpis pochodzi ze strony internetowej Organizatora. Administrator Portalu dokłada wszelkich starań aby informacje tutaj zawarte były aktualne i zgodne ze stanem podawanym przez Organizatora\, jednak nie bierze za nie odpowiedzialności. Zalecamy zapoznać się z regulaminem imprezy dostępnym na oficjalnej stronie wydarzenia oraz śledzić komunikaty startowe.
URL:https://dlugidystansrowerem.pl/event/p-g-r-500-km/
LOCATION:Plac Niepodległości Przemyśl\, Przemyśl\, podkarpackie\, Poland
CATEGORIES:Gravel
ATTACH;FMTTYPE=image/png:https://dlugidystansrowerem.pl/wp-content/uploads/2019/12/poland-gravel-race-logo.png
END:VEVENT
BEGIN:VEVENT
DTSTART;VALUE=DATE:20210807
DTEND;VALUE=DATE:20210809
DTSTAMP:20260425T134628
CREATED:20210125T185329Z
LAST-MODIFIED:20210125T065925Z
UID:2703-1628294400-1628467199@dlugidystansrowerem.pl
SUMMARY:Kórnicki Maraton Turystyczny 300 km\, 500 km
DESCRIPTION:Kórnicki Maraton Turystyczny odbywa się zawsze w pierwszy weekend sierpnia. Start uczestników następuje z bazy w Robakowie (start honorowy)\, a po krótkim dojeździe na rynek w Kórniku maratończycy ruszają w trasę 500 i 300 km (do wyboru) ze startu ostrego. \nOczywiście ów “start ostry” nie oznacza\, że macie rwać nie wiadomo jak szybko do mety – maraton nie ma charakteru wyścigu\, a jest raczej imprezą towarzyską skierowaną do entuzjastów pokonywania długich dystansów na rowerze. \nW KMT każdy\, kto zmierzył się z wybranym dystansem i dojechał do mety – jest zwycięzcą. Nie ma “pierwszych” i “ostatnich”. Jest dobra zabawa\, przygoda i rower. Czyli to\, co lubicie najbardziej. Tak\, jak i my\, organizatorzy\, czyli KBR Kórnik. \n  \nOpis pochodzi ze strony internetowej Organizatora. Administrator Portalu dokłada wszelkich starań aby informacje tutaj zawarte były aktualne i zgodne ze stanem podawanym przez Organizatora\, jednak nie bierze za nie odpowiedzialności. Zalecamy zapoznać się z regulaminem imprezy dostępnym na oficjalnej stronie wydarzenia oraz śledzić komunikaty startowe.
URL:https://dlugidystansrowerem.pl/event/kornicki-maraton-turystyczny-300-km-500-km/
LOCATION:kujawsko-pomorskie
CATEGORIES:Szosa
ATTACH;FMTTYPE=image/png:https://dlugidystansrowerem.pl/wp-content/uploads/2021/01/kornicki-maraton-turystyczny-logo.png
END:VEVENT
BEGIN:VEVENT
DTSTART;VALUE=DATE:20210619
DTEND;VALUE=DATE:20210621
DTSTAMP:20260425T134628
CREATED:20210111T185403Z
LAST-MODIFIED:20210111T185440Z
UID:2621-1624060800-1624233599@dlugidystansrowerem.pl
SUMMARY:Śląski Maraton Rowerowy w Mszanie
DESCRIPTION:Mamy przyjemność poinformować\, że Śląski Maraton Rowerowy 24h odbędzie się 19 – 20 Czerwca 2021. Wiec już pomyślcie jak wasza kondycja.\n\n\nBo to będzie jedna z dwóch imprez w 2021.\n\n\nPierwsza tradycyjnie po pętlach 100km do 700 może wiecej\n\n\nA druga będzie w sierpniu jako jedna trasa pętla 500km z widokami.\nOpłaty\nOpłata za udział w maratonie\n\n\n\ndystans 50 km – 90 zł (+ 5zł kaucji w dniu zawodów)\ndystans 100\, 150\, 200 km – 110 zł (+ 5zł kaucji w dniu zawodów)\ndystans 300 i 400 km – 130 zł (+ 5zł kaucji w dniu zawodów)\ndystans 500\, 600\, 700\, 750 km – 150 zł (+ 5zł kaucji w dniu zawodów)\n\nKaucja pobierana przy rejestracji 5 zł – po oddaniu karty do pomiaru czasowego\, kaucja będzie zwracana. \nOpis pochodzi ze strony internetowej Organizatora. Administrator Portalu dokłada wszelkich starań aby informacje tutaj zawarte były aktualne i zgodne ze stanem podawanym przez Organizatora\, jednak nie bierze za nie odpowiedzialności. Zalecamy zapoznać się z regulaminem imprezy dostępnym na oficjalnej stronie wydarzenia oraz śledzić komunikaty startowe.
URL:https://dlugidystansrowerem.pl/event/slaski-maraton-rowerowy-w-mszanie/
LOCATION:Mszana\, Mszana\, Poland
CATEGORIES:Szosa
ATTACH;FMTTYPE=image/png:https://dlugidystansrowerem.pl/wp-content/uploads/2021/01/slaski-maraton-rowerowy-mszana.png
END:VEVENT
BEGIN:VEVENT
DTSTART;VALUE=DATE:20210617
DTEND;VALUE=DATE:20210621
DTSTAMP:20260425T134628
CREATED:20210111T190640Z
LAST-MODIFIED:20210111T190715Z
UID:2614-1623888000-1624233599@dlugidystansrowerem.pl
SUMMARY:Ultra Sudety Gravel Race 500 km
DESCRIPTION:Ultra Sudety Gravel Race to rowerowy maraton terenowy w formule samowystarczalności. Został wytyczony malowniczymi i widokowymi pasmami polskich Sudetów. Wystartować mogą w nim zarówno osoby chcące poczuć ducha rywalizacji jak i ceniące sobie długie obcowanie z naturą. \nTrasa prowadzi głównie szutrowymi i terenowymi ścieżkami. Całość zamknięta jest w jednej pętli – start i meta znajduje się w tym samym miejscu. \nLimit czasu na pokonanie ok. 500 km i ok. 11200 m przewyższeń wynosi 85 godzin. \nStart i meta mieścić się będą na terenie Ziemi Kłodzkiej. \nOpis pochodzi ze strony internetowej organizatora. Administrator Portalu dokłada wszelkich starań aby informacje tutaj zawarte były aktualne i zgodne ze stanem podawanym przez Organizatora\, jednak nie bierze za nie odpowiedzialności. Zalecamy zapoznać się z regulaminem imprezy dostępnym na oficjalnej stronie wydarzenia oraz śledzić komunikaty startowe.
URL:https://dlugidystansrowerem.pl/event/ultra-sudety-gravel-race-500-km/
LOCATION:Ośrodek Sportu i Rekreacji Polanica Zdrój\, Polanica Zdrój\, Poland
CATEGORIES:Gravel
ATTACH;FMTTYPE=image/png:https://dlugidystansrowerem.pl/wp-content/uploads/2021/01/ultrasudety-gravel-race.png
END:VEVENT
BEGIN:VEVENT
DTSTART;VALUE=DATE:20210603
DTEND;VALUE=DATE:20210607
DTSTAMP:20260425T134628
CREATED:20210120T204409Z
LAST-MODIFIED:20210120T204433Z
UID:2593-1622678400-1623023999@dlugidystansrowerem.pl
SUMMARY:Pomorska 500
DESCRIPTION:Pomorska 500 (POM500) jest rowerowym ultramaratonem adresowanym do zaawansowanych i doświadczonych kolarzy i podróżników. Trasa POM500 przebiega przez najatrakcyjniejsze tereny województw zachodniopomorskiego i pomorskiego. Start indywidualny 3 czerwca 2021 r.\, w Czarnocinie koło Szczecina. Meta w Gdańsku. \nLudzie podróżowali wzdłuż rzek od wieków…. To już znacie. A co gdyby nie przekraczać w podróży żadnej rzeki? Żeby pojechać im wbrew i na przekór. Czy to możliwe? Od roku przemierzaliśmy odludne i dzikie tereny Pomorza i Pomorza Zachodniego. Wyposażeni w hydrologiczne mapy szukaliśmy dróg\, ścieżek i bezdroży\, które wytyczają Pomorski Wododział. 530 kilometrów bez przejechania przez jakąkolwiek rzekę. \nOd Zalewu Szczecińskiego do Zatoki Gdańskiej bez mostów\, ale blisko przyrody\, która ciągle urzeka i zadziwia. Zapraszamy na naszą kolejną rowerową wyrypę. Zaliczymy wszystkie wzgórza po drodze\, ominiemy źródła wszystkich rzek\, uważając na czołgi w okolicy drawskiego poligonu i podziwiając panoramy\, których istnienia nikt sobie nie uświadamiał. \nOpis pochodzi ze strony internetowej organizatora. Administrator Portalu dokłada wszelkich starań aby informacje tutaj zawarte były aktualne i zgodne ze stanem podawanym przez Organizatora\, jednak nie bierze za nie odpowiedzialności. Zalecamy zapoznać się z regulaminem imprezy dostępnym na oficjalnej stronie wydarzenia oraz śledzić komunikaty startowe.
URL:https://dlugidystansrowerem.pl/event/pomorska-500-2/
LOCATION:Szkoła Aktywnego Wypoczynku Frajda\, Czarnocin 2\, Czarnocin\, 72-112\, Polska
CATEGORIES:Gravel
ATTACH;FMTTYPE=image/jpeg:https://dlugidystansrowerem.pl/wp-content/uploads/2019/12/pomorska-500-ultra-endurance-gravel-race.jpg
END:VEVENT
END:VCALENDAR