BEGIN:VCALENDAR
VERSION:2.0
PRODID:-//Długi Dystans Rowerem - ECPv6.15.17//NONSGML v1.0//EN
CALSCALE:GREGORIAN
METHOD:PUBLISH
X-ORIGINAL-URL:https://dlugidystansrowerem.pl
X-WR-CALDESC:Wydarzenia dla Długi Dystans Rowerem
REFRESH-INTERVAL;VALUE=DURATION:PT1H
X-Robots-Tag:noindex
X-PUBLISHED-TTL:PT1H
BEGIN:VTIMEZONE
TZID:Europe/Warsaw
BEGIN:DAYLIGHT
TZOFFSETFROM:+0100
TZOFFSETTO:+0200
TZNAME:CEST
DTSTART:20200329T010000
END:DAYLIGHT
BEGIN:STANDARD
TZOFFSETFROM:+0200
TZOFFSETTO:+0100
TZNAME:CET
DTSTART:20201025T010000
END:STANDARD
BEGIN:DAYLIGHT
TZOFFSETFROM:+0100
TZOFFSETTO:+0200
TZNAME:CEST
DTSTART:20210328T010000
END:DAYLIGHT
BEGIN:STANDARD
TZOFFSETFROM:+0200
TZOFFSETTO:+0100
TZNAME:CET
DTSTART:20211031T010000
END:STANDARD
BEGIN:DAYLIGHT
TZOFFSETFROM:+0100
TZOFFSETTO:+0200
TZNAME:CEST
DTSTART:20220327T010000
END:DAYLIGHT
BEGIN:STANDARD
TZOFFSETFROM:+0200
TZOFFSETTO:+0100
TZNAME:CET
DTSTART:20221030T010000
END:STANDARD
BEGIN:DAYLIGHT
TZOFFSETFROM:+0100
TZOFFSETTO:+0200
TZNAME:CEST
DTSTART:20230326T010000
END:DAYLIGHT
BEGIN:STANDARD
TZOFFSETFROM:+0200
TZOFFSETTO:+0100
TZNAME:CET
DTSTART:20231029T010000
END:STANDARD
BEGIN:DAYLIGHT
TZOFFSETFROM:+0100
TZOFFSETTO:+0200
TZNAME:CEST
DTSTART:20240331T010000
END:DAYLIGHT
BEGIN:STANDARD
TZOFFSETFROM:+0200
TZOFFSETTO:+0100
TZNAME:CET
DTSTART:20241027T010000
END:STANDARD
END:VTIMEZONE
BEGIN:VEVENT
DTSTART;TZID=Europe/Warsaw:20230429T080000
DTEND;TZID=Europe/Warsaw:20230429T220000
DTSTAMP:20260419T195350
CREATED:20210111T184148Z
LAST-MODIFIED:20230106T195115Z
UID:2624-1682755200-1682805600@dlugidystansrowerem.pl
SUMMARY:Brevet Mińsk Mazowiecki 200 km
DESCRIPTION:https://anchor.fm/s/13143c10/podcast/play/67390795/https%3A%2F%2Fd3ctxlq1ktw2nl.cloudfront.net%2Fstaging%2F2023-2-27%2Ff1ac52a4-2d18-0428-25ab-f0cd550c9c8d.mp3Brevet na Mińskie 200 jak co roku odbędzie się w ostatni weekend kwietnia.\nPrzygotowaliśmy dla uczestników zmienioną trasę\, ciekawe zakątki których nie znacie.\nWięcej informacji szczegółowych zamieścimy po ostatecznym zatwierdzeniu trasy i punktów kontrolnych
URL:https://dlugidystansrowerem.pl/event/brevet-minsk-mazowiecki/
LOCATION:Mińsk Mazowiecki\, Sportowa\, Mińsk Mazowiecki\, Poland
CATEGORIES:Gravel,Szosa
ATTACH;FMTTYPE=image/jpeg:https://dlugidystansrowerem.pl/wp-content/uploads/2023/01/audax-poland-logotyp.jpg
ORGANIZER;CN="Fundacja Audax Poland":MAILTO:audaxpoland@gmail.com
END:VEVENT
BEGIN:VEVENT
DTSTART;TZID=Europe/Warsaw:20230415T080000
DTEND;TZID=Europe/Warsaw:20230416T000000
DTSTAMP:20260419T195350
CREATED:20230106T190545Z
LAST-MODIFIED:20230106T192635Z
UID:6996-1681545600-1681603200@dlugidystansrowerem.pl
SUMMARY:Brevet Polanica-Zdrój 300 km
DESCRIPTION:https://anchor.fm/s/13143c10/podcast/play/67390795/https%3A%2F%2Fd3ctxlq1ktw2nl.cloudfront.net%2Fstaging%2F2023-2-27%2Ff1ac52a4-2d18-0428-25ab-f0cd550c9c8d.mp3Brevet organizowany przez Race Through Poland.
URL:https://dlugidystansrowerem.pl/event/brevet-polanica-zdroj-300-km/
LOCATION:Ośrodek Sportu i Rekreacji Polanica Zdrój\, Polanica Zdrój\, Poland
CATEGORIES:Szosa
ATTACH;FMTTYPE=image/jpeg:https://dlugidystansrowerem.pl/wp-content/uploads/2023/01/audax-poland-logotyp.jpg
END:VEVENT
BEGIN:VEVENT
DTSTART;VALUE=DATE:20230325
DTEND;VALUE=DATE:20230326
DTSTAMP:20260419T195350
CREATED:20230105T222626Z
LAST-MODIFIED:20230106T192609Z
UID:6978-1679702400-1679788799@dlugidystansrowerem.pl
SUMMARY:Brevet Polanica-Zdrój 200 km
DESCRIPTION:https://anchor.fm/s/13143c10/podcast/play/67390795/https%3A%2F%2Fd3ctxlq1ktw2nl.cloudfront.net%2Fstaging%2F2023-2-27%2Ff1ac52a4-2d18-0428-25ab-f0cd550c9c8d.mp3Brevet organizowany przez Race Through Poland.
URL:https://dlugidystansrowerem.pl/event/brevet-polanica-zdroj-200-km/
LOCATION:Ośrodek Sportu i Rekreacji Polanica Zdrój\, Polanica Zdrój\, Poland
CATEGORIES:Szosa
ATTACH;FMTTYPE=image/jpeg:https://dlugidystansrowerem.pl/wp-content/uploads/2023/01/audax-poland-logotyp.jpg
END:VEVENT
BEGIN:VEVENT
DTSTART;VALUE=DATE:20220604
DTEND;VALUE=DATE:20220606
DTSTAMP:20260419T195350
CREATED:20220110T211911Z
LAST-MODIFIED:20220110T211911Z
UID:3283-1654300800-1654473599@dlugidystansrowerem.pl
SUMMARY:Brevet Miechów (400 km)
DESCRIPTION:https://anchor.fm/s/13143c10/podcast/play/67390795/https%3A%2F%2Fd3ctxlq1ktw2nl.cloudfront.net%2Fstaging%2F2023-2-27%2Ff1ac52a4-2d18-0428-25ab-f0cd550c9c8d.mp3Wydarzenie organizowane w ramach Fundacji Randonneurs Polska. Brevet Miechów organizowany jest bez wsparcia. \nCo ważne\, jest wpisany na listę ACP (Audax Club Parisien) czyli homologowanych brevetów na rok 2022 na terenie Polski. Jest to istotne dla osób planujących zdobyć kwalifikację do startu w Paris-Brest-Paris w roku 2023.
URL:https://dlugidystansrowerem.pl/event/brevet-miechow-400-km/
LOCATION:Miechów\, Miechów\, Poland
CATEGORIES:Szosa
ATTACH;FMTTYPE=image/png:https://dlugidystansrowerem.pl/wp-content/uploads/2021/01/fundacja-randonneurs-polska.png
END:VEVENT
BEGIN:VEVENT
DTSTART;VALUE=DATE:20220514
DTEND;VALUE=DATE:20220515
DTSTAMP:20260419T195350
CREATED:20210120T214214Z
LAST-MODIFIED:20220102T144030Z
UID:2546-1652486400-1652572799@dlugidystansrowerem.pl
SUMMARY:Brevet - Roztocze Zwierzyniec "Gródki" (200 km)
DESCRIPTION:https://anchor.fm/s/13143c10/podcast/play/67390795/https%3A%2F%2Fd3ctxlq1ktw2nl.cloudfront.net%2Fstaging%2F2023-2-27%2Ff1ac52a4-2d18-0428-25ab-f0cd550c9c8d.mp3
URL:https://dlugidystansrowerem.pl/event/brevet-roztocze-zwierzyniec/
CATEGORIES:Szosa
ATTACH;FMTTYPE=image/png:https://dlugidystansrowerem.pl/wp-content/uploads/2021/01/fundacja-randonneurs-polska.png
END:VEVENT
BEGIN:VEVENT
DTSTART;VALUE=DATE:20220507
DTEND;VALUE=DATE:20220508
DTSTAMP:20260419T195350
CREATED:20210121T082852Z
LAST-MODIFIED:20220102T141056Z
UID:2523-1651881600-1651967999@dlugidystansrowerem.pl
SUMMARY:Brevet Charsznica "Orle Gniazda" (200 km)
DESCRIPTION:https://anchor.fm/s/13143c10/podcast/play/67390795/https%3A%2F%2Fd3ctxlq1ktw2nl.cloudfront.net%2Fstaging%2F2023-2-27%2Ff1ac52a4-2d18-0428-25ab-f0cd550c9c8d.mp3Randonneur​Cycling \nKolarstwo w stylu randonneurs to pokonywanie ultra długich dystansów podczas zorganizowanych rajdów\, których tradycja sięga końca XIX w. Kolarze podejmują wyzwanie przejechania „brevetu” (BRM – Brevet Randonneurs Mondiaux)\, czyli pokonania dystansów 200 km i więcej\, zaliczając zaplanowane co kilkadziesiąt kilometrów punkty kontrolne. \nBrevety są rajdami szosowymi. Trasy są prowadzone po drogach publicznych\, a zawody są rozgrywane w normalnym ruchu ulicznym. W miarę możliwości trasy planowane są w taki sposób\, żeby unikać dróg o dużym natężeniu ruchu.
URL:https://dlugidystansrowerem.pl/event/brevet-charsznica-200-km/
LOCATION:GOK Charsznica\, Miechów-Charsznica ul. Kolejowa 1\, Charsznica\, 32-250\, Poland
CATEGORIES:Gravel,Szosa
ATTACH;FMTTYPE=image/png:https://dlugidystansrowerem.pl/wp-content/uploads/2021/01/fundacja-randonneurs-polska.png
END:VEVENT
BEGIN:VEVENT
DTSTART;VALUE=DATE:20220423
DTEND;VALUE=DATE:20220424
DTSTAMP:20260419T195350
CREATED:20220102T115249Z
LAST-MODIFIED:20220102T115249Z
UID:3195-1650672000-1650758399@dlugidystansrowerem.pl
SUMMARY:eBrevet - Mińsk Mazowiecki (200 km)
DESCRIPTION:https://anchor.fm/s/13143c10/podcast/play/67390795/https%3A%2F%2Fd3ctxlq1ktw2nl.cloudfront.net%2Fstaging%2F2023-2-27%2Ff1ac52a4-2d18-0428-25ab-f0cd550c9c8d.mp3
URL:https://dlugidystansrowerem.pl/event/ebrevet-minsk-mazowiecki/
CATEGORIES:Szosa
ATTACH;FMTTYPE=image/png:https://dlugidystansrowerem.pl/wp-content/uploads/2021/01/fundacja-randonneurs-polska.png
END:VEVENT
BEGIN:VEVENT
DTSTART;VALUE=DATE:20210918
DTEND;VALUE=DATE:20210919
DTSTAMP:20260419T195350
CREATED:20210125T215112Z
LAST-MODIFIED:20210125T115304Z
UID:2740-1631923200-1632009599@dlugidystansrowerem.pl
SUMMARY:Brevet Ożarów Mazowiecki - 200 km
DESCRIPTION:https://anchor.fm/s/13143c10/podcast/play/67390795/https%3A%2F%2Fd3ctxlq1ktw2nl.cloudfront.net%2Fstaging%2F2023-2-27%2Ff1ac52a4-2d18-0428-25ab-f0cd550c9c8d.mp3Kolarstwo w stylu randonneurs to pokonywanie ultra długich dystansów podczas zorganizowanych rajdów\, których tradycja sięga końca XIX w.Kolarze podejmują wyzwanie przejechania „brevetu” (BRM – Brevet Randonneurs Mondiaux) czyli pokonania dystansów 200 km i więcej\, zaliczając zaplanowane co kilkadziesiąt kilometrów punkty kontrolne. \nBrevety są rajdami szosowymi. Trasy są prowadzone po drogach publicznych\, a zawody są rozgrywane w normalnym ruchu ulicznym. W miarę możliwości trasy planowane są w taki sposób\, żeby unikać dróg o dużym natężeniu ruchu.
URL:https://dlugidystansrowerem.pl/event/brevet-ozarow-mazowiecki-200-km-2/
LOCATION:Ożarów Mazowiecki\, Ożarów Mazowiecki\, Poland
CATEGORIES:Gravel,Szosa
ATTACH;FMTTYPE=image/png:https://dlugidystansrowerem.pl/wp-content/uploads/2021/01/fundacja-randonneurs-polska.png
END:VEVENT
BEGIN:VEVENT
DTSTART;VALUE=DATE:20210715
DTEND;VALUE=DATE:20210721
DTSTAMP:20260419T195350
CREATED:20210124T180504Z
LAST-MODIFIED:20210124T180504Z
UID:2655-1626307200-1626825599@dlugidystansrowerem.pl
SUMMARY:Brevet Grunwald-Troki-Grunwald 1410 km
DESCRIPTION:https://anchor.fm/s/13143c10/podcast/play/67390795/https%3A%2F%2Fd3ctxlq1ktw2nl.cloudfront.net%2Fstaging%2F2023-2-27%2Ff1ac52a4-2d18-0428-25ab-f0cd550c9c8d.mp3Międzynarodowy ultramaraton kolarski Grunwald-Troki-Grunwald z symbolicznym dystansem 1410 km.
URL:https://dlugidystansrowerem.pl/event/brevet-grunwald-troki-grunwald-1410-km/
LOCATION:Grunwald\, Poland
CATEGORIES:Szosa
ATTACH;FMTTYPE=image/png:https://dlugidystansrowerem.pl/wp-content/uploads/2021/01/brevet-grunwald-troki-grunwald-1410-km-2021-logo.png
END:VEVENT
BEGIN:VEVENT
DTSTART;VALUE=DATE:20210710
DTEND;VALUE=DATE:20210711
DTSTAMP:20260419T195350
CREATED:20210124T175100Z
LAST-MODIFIED:20210124T175100Z
UID:2648-1625875200-1625961599@dlugidystansrowerem.pl
SUMMARY:Brevet - Lubawa 200 km
DESCRIPTION:https://anchor.fm/s/13143c10/podcast/play/67390795/https%3A%2F%2Fd3ctxlq1ktw2nl.cloudfront.net%2Fstaging%2F2023-2-27%2Ff1ac52a4-2d18-0428-25ab-f0cd550c9c8d.mp3Kolarstwo w stylu randonneurs to pokonywanie ultra długich dystansów podczas zorganizowanych rajdów\, których tradycja sięga końca XIX w.Kolarze podejmują wyzwanie przejechania „brevetu” (BRM – Brevet Randonneurs Mondiaux) czyli pokonania dystansów 200 km i więcej\, zaliczając zaplanowane co kilkadziesiąt kilometrów punkty kontrolne. \nBrevety są rajdami szosowymi. Trasy są prowadzone po drogach publicznych\, a zawody są rozgrywane w normalnym ruchu ulicznym. W miarę możliwości trasy planowane są w taki sposób\, żeby unikać dróg o dużym natężeniu ruchu.
URL:https://dlugidystansrowerem.pl/event/brevet-lubawa-200-km/
LOCATION:Lubawa\, Poland
CATEGORIES:Gravel,Szosa
ATTACH;FMTTYPE=image/png:https://dlugidystansrowerem.pl/wp-content/uploads/2021/01/fundacja-randonneurs-polska.png
END:VEVENT
BEGIN:VEVENT
DTSTART;VALUE=DATE:20210417
DTEND;VALUE=DATE:20210418
DTSTAMP:20260419T195350
CREATED:20210121T113429Z
LAST-MODIFIED:20210126T072543Z
UID:2498-1618617600-1618703999@dlugidystansrowerem.pl
SUMMARY:Brevet - Ożarów Mazowiecki - 200 km
DESCRIPTION:https://anchor.fm/s/13143c10/podcast/play/67390795/https%3A%2F%2Fd3ctxlq1ktw2nl.cloudfront.net%2Fstaging%2F2023-2-27%2Ff1ac52a4-2d18-0428-25ab-f0cd550c9c8d.mp3Kolarstwo w stylu randonneurs to pokonywanie ultra długich dystansów podczas zorganizowanych rajdów\, których tradycja sięga końca XIX w.Kolarze podejmują wyzwanie przejechania „brevetu” (BRM – Brevet Randonneurs Mondiaux) czyli pokonania dystansów 200 km i więcej\, zaliczając zaplanowane co kilkadziesiąt kilometrów punkty kontrolne. \nBrevety są rajdami szosowymi. Trasy są prowadzone po drogach publicznych\, a zawody są rozgrywane w normalnym ruchu ulicznym. W miarę możliwości trasy planowane są w taki sposób\, żeby unikać dróg o dużym natężeniu ruchu.
URL:https://dlugidystansrowerem.pl/event/brevet-ozarow-mazowiecki-200-km/
LOCATION:Ożarów Mazowiecki\, Ożarów Mazowiecki\, Poland
CATEGORIES:Gravel,Szosa
ATTACH;FMTTYPE=image/png:https://dlugidystansrowerem.pl/wp-content/uploads/2021/01/fundacja-randonneurs-polska.png
END:VEVENT
END:VCALENDAR