BEGIN:VCALENDAR
VERSION:2.0
PRODID:-//Długi Dystans Rowerem - ECPv6.15.17//NONSGML v1.0//EN
CALSCALE:GREGORIAN
METHOD:PUBLISH
X-ORIGINAL-URL:https://dlugidystansrowerem.pl
X-WR-CALDESC:Wydarzenia dla Długi Dystans Rowerem
REFRESH-INTERVAL;VALUE=DURATION:PT1H
X-Robots-Tag:noindex
X-PUBLISHED-TTL:PT1H
BEGIN:VTIMEZONE
TZID:Europe/Warsaw
BEGIN:DAYLIGHT
TZOFFSETFROM:+0100
TZOFFSETTO:+0200
TZNAME:CEST
DTSTART:20200329T010000
END:DAYLIGHT
BEGIN:STANDARD
TZOFFSETFROM:+0200
TZOFFSETTO:+0100
TZNAME:CET
DTSTART:20201025T010000
END:STANDARD
BEGIN:DAYLIGHT
TZOFFSETFROM:+0100
TZOFFSETTO:+0200
TZNAME:CEST
DTSTART:20210328T010000
END:DAYLIGHT
BEGIN:STANDARD
TZOFFSETFROM:+0200
TZOFFSETTO:+0100
TZNAME:CET
DTSTART:20211031T010000
END:STANDARD
BEGIN:DAYLIGHT
TZOFFSETFROM:+0100
TZOFFSETTO:+0200
TZNAME:CEST
DTSTART:20220327T010000
END:DAYLIGHT
BEGIN:STANDARD
TZOFFSETFROM:+0200
TZOFFSETTO:+0100
TZNAME:CET
DTSTART:20221030T010000
END:STANDARD
END:VTIMEZONE
BEGIN:VEVENT
DTSTART;VALUE=DATE:20210417
DTEND;VALUE=DATE:20210418
DTSTAMP:20260419T215441
CREATED:20210121T113429Z
LAST-MODIFIED:20210126T072543Z
UID:2498-1618617600-1618703999@dlugidystansrowerem.pl
SUMMARY:Brevet - Ożarów Mazowiecki - 200 km
DESCRIPTION:Kolarstwo w stylu randonneurs to pokonywanie ultra długich dystansów podczas zorganizowanych rajdów\, których tradycja sięga końca XIX w.Kolarze podejmują wyzwanie przejechania „brevetu” (BRM – Brevet Randonneurs Mondiaux) czyli pokonania dystansów 200 km i więcej\, zaliczając zaplanowane co kilkadziesiąt kilometrów punkty kontrolne. \nBrevety są rajdami szosowymi. Trasy są prowadzone po drogach publicznych\, a zawody są rozgrywane w normalnym ruchu ulicznym. W miarę możliwości trasy planowane są w taki sposób\, żeby unikać dróg o dużym natężeniu ruchu.
URL:https://dlugidystansrowerem.pl/event/brevet-ozarow-mazowiecki-200-km/
LOCATION:Ożarów Mazowiecki\, Ożarów Mazowiecki\, Poland
CATEGORIES:Gravel,Szosa
ATTACH;FMTTYPE=image/png:https://dlugidystansrowerem.pl/wp-content/uploads/2021/01/fundacja-randonneurs-polska.png
END:VEVENT
END:VCALENDAR