BEGIN:VCALENDAR
VERSION:2.0
PRODID:-//Długi Dystans Rowerem - ECPv6.15.17//NONSGML v1.0//EN
CALSCALE:GREGORIAN
METHOD:PUBLISH
X-WR-CALNAME:Długi Dystans Rowerem
X-ORIGINAL-URL:https://dlugidystansrowerem.pl
X-WR-CALDESC:Wydarzenia dla Długi Dystans Rowerem
REFRESH-INTERVAL;VALUE=DURATION:PT1H
X-Robots-Tag:noindex
X-PUBLISHED-TTL:PT1H
BEGIN:VTIMEZONE
TZID:Europe/Warsaw
BEGIN:DAYLIGHT
TZOFFSETFROM:+0100
TZOFFSETTO:+0200
TZNAME:CEST
DTSTART:20200329T010000
END:DAYLIGHT
BEGIN:STANDARD
TZOFFSETFROM:+0200
TZOFFSETTO:+0100
TZNAME:CET
DTSTART:20201025T010000
END:STANDARD
BEGIN:DAYLIGHT
TZOFFSETFROM:+0100
TZOFFSETTO:+0200
TZNAME:CEST
DTSTART:20210328T010000
END:DAYLIGHT
BEGIN:STANDARD
TZOFFSETFROM:+0200
TZOFFSETTO:+0100
TZNAME:CET
DTSTART:20211031T010000
END:STANDARD
BEGIN:DAYLIGHT
TZOFFSETFROM:+0100
TZOFFSETTO:+0200
TZNAME:CEST
DTSTART:20220327T010000
END:DAYLIGHT
BEGIN:STANDARD
TZOFFSETFROM:+0200
TZOFFSETTO:+0100
TZNAME:CET
DTSTART:20221030T010000
END:STANDARD
BEGIN:DAYLIGHT
TZOFFSETFROM:+0100
TZOFFSETTO:+0200
TZNAME:CEST
DTSTART:20230326T010000
END:DAYLIGHT
BEGIN:STANDARD
TZOFFSETFROM:+0200
TZOFFSETTO:+0100
TZNAME:CET
DTSTART:20231029T010000
END:STANDARD
BEGIN:DAYLIGHT
TZOFFSETFROM:+0100
TZOFFSETTO:+0200
TZNAME:CEST
DTSTART:20240331T010000
END:DAYLIGHT
BEGIN:STANDARD
TZOFFSETFROM:+0200
TZOFFSETTO:+0100
TZNAME:CET
DTSTART:20241027T010000
END:STANDARD
END:VTIMEZONE
BEGIN:VEVENT
DTSTART;VALUE=DATE:20230708
DTEND;VALUE=DATE:20230711
DTSTAMP:20260420T015043
CREATED:20230412T201159Z
LAST-MODIFIED:20230602T123434Z
UID:7430-1688774400-1689033599@dlugidystansrowerem.pl
SUMMARY:Graveliada
DESCRIPTION:Graveliada to ultramaraton kolarski prowadzony szutrami w nieodkrytej południowo-zachodniej części województwa Warmińsko-Mazurskiego. Nieustannie falująca trasa oraz przepiękne widoki zapewniają zarówno sportowe wyzwanie jak i ucztę dla zmysłów. \nGraveliada TRASA\nMamy dla Was dwa dystanse. Dla wytrwałych dystans ok. 450km oraz dla bardziej początkujących dystans ok. 160km. W obu przypadkach trasa w większości prowadzi po drogach szutrowych\, polnych i leśnych oraz po drogach asfaltowych. \nGraveliada OPŁATY\ndo 30.04.2023 – 289 zł\nod 01.05.2023 – 349 zł \nWydarzenie zostało dodane przez ten formularz zgłoszeń do kalendarza.
URL:https://dlugidystansrowerem.pl/event/graveliada/
LOCATION:Lidzbark\, Lidzbark (Welski)\, warmińsko - mazurskie\, 13-230\, Poland
CATEGORIES:Gravel
ATTACH;FMTTYPE=image/jpeg:https://dlugidystansrowerem.pl/wp-content/uploads/2023/04/Graveliada-nowe-logo-logo-wektor_svg-3.jpg
ORGANIZER;CN="Stowarzyszenie Wspierania i Rozwoju Sportu %E2%80%9CMazovia Team%E2%80%9D":MAILTO:biuro@graveliada.pl
END:VEVENT
BEGIN:VEVENT
DTSTART;VALUE=DATE:20210917
DTEND;VALUE=DATE:20210920
DTSTAMP:20260420T015043
CREATED:20210125T213844Z
LAST-MODIFIED:20210125T115055Z
UID:2742-1631836800-1632095999@dlugidystansrowerem.pl
SUMMARY:Great Lakes Gravel - 470 km
DESCRIPTION:Great Lakes Gravel to Ultramaraton rowerowy po najlepszych szutrach Warmii i Mazur. \nGreat Lakes Gravel to coś więcej niż wyścig\, to wielka przygoda\, która zaprasza do Krainy Tysiąca Jezior na najlepsze szutrowe drogi w Polsce. Już we wrześniu będziecie mogli zmierzyć się z trasą\, która nie tylko oczaruje i zachwyci\, ale także będzie prawdziwym sprawdzianem dla głowy i ciała. Jeżeli myśleliście\, że widok graveli na szutrowych autostradach dostępny jest tylko w materiałach marketingowych\, to tutaj dostaniecie szansę doświadczenia tego naprawdę. \nJak przystało na ultra wyścig\, formuła zakłada pełną samowystarczalność. Do pokonania będzie pętla o długości 480 km\, na którą przewidziany jest limit czasowy 63 godzin. W tym czasie zmierzycie się z trasą\, która absolutnie Was zachwyci. Prowadzi bowiem przez najpiękniejsze zakątki geograficznych i historycznych Mazur. Rozpoczniemy jednak na Warmii\, w miejscowości Wilimy nad Jeziorem Dadaj i tu także zakończymy zmagania. Oczywiście widoki\, które zobaczycie złagodzą jedynie wysiłek\, który trzeba będzie włożyć w pokonanie pętli\, bo ma to być wyzwanie dla ducha i ciała. \nMotywem przewodnim trasy są oczywiście jeziora\, nie mogło być inaczej w przypadku tego miejsca. To one wyznaczają krętą drogę\, która prawdopodobnie ani przez chwilę nie będzie płaska. Przed Wami każdy rodzaj nawierzchni\, a więc szuter\, bruk\, leśne ścieżki i odcinki asfaltowe. To jednak szuter będzie esencją tego wyścigu\, pojedziecie drogami\, które można wklejać do rowerowych pocztówek. \nLekko nie będzie! Już po starcie czeka Was sporo podjazdów. Pętla prowadzi na północ\, gdzie miniemy dawną kwaterę Hitlera\, czyli Wilczy Szaniec\, by popędzić w kierunku Węgorzewa i Jeziora Dargin i Mamry\, które przetniemy urokliwą drogą przez port w Sztynorcie. Następnie wkroczymy na szlak Mazur Garbatych przemierzając Puszczę Borecką w kierunku Gołdapi. Tam czeka Was festiwal podjazdów (i zjazdów) ze wspinaczką pod Gołdapską Górę włącznie. Następnie wkroczymy do oszałamiającej Puszczy Rominckiej\, którą przekroczymy śladami jej legendarnych jeleni aż do słynnych mostów w Stańczykach. Stamtąd przez Dolinę Rospudy wjedziecie na szutrowe autostrady znane między innymi z tras Rajdu Polski. Nie zabraknie także Jeziora Śniardwy\, którego północnym przebiegiem przejedziemy do Mikołajek i stamtąd pięknymi szutrami\, a następnie przez Górę Czterech Wiatrów wprost do Mrągowa. To\, co dodatkowo zobaczycie po drodze\, będzie już wyłącznie Waszym przeżyciem\, którego nikt nie zabierze. \nZałożeniem było stworzenie pętli ze startem i metą w tym samym miejscu. Dzięki temu nie będzie skomplikowanej logistyki\, możecie na start dojechać swoim samochodem i wrócić tak samo do domu\, bez konieczności angażowania wielu osób do przywiezienia na start czy odbioru na mecie. Oczywiście taktyka na przejechanie trasy będzie dowolna\, ale zaplanowaliśmy ją w regionie atrakcyjnym turystycznie\, dlatego nie będziecie mieć problemu ze znalezieniem noclegu pod dachem. Każdy z uczestników otrzyma tracker\, dzięki czemu będzie można śledzić jego pozycję live na stronie wyścigu. Mimo\, że motywem przewodnim jest szuter w nazwie nie faworyzujemy graveli. Zapraszamy każdego na każdym rowerze\, ograniczeniem jest tylko wyobraźnia. \nźródło: materiały prasowe \nOpis pochodzi ze strony internetowej Organizatora. Administrator Portalu dokłada wszelkich starań aby informacje tutaj zawarte były aktualne i zgodne ze stanem podawanym przez Organizatora\, jednak nie bierze za nie odpowiedzialności. Zalecamy zapoznać się z regulaminem imprezy dostępnym na oficjalnej stronie wydarzenia oraz śledzić komunikaty startowe.
URL:https://dlugidystansrowerem.pl/event/great-lakes-gravel-470-km/
LOCATION:Gościniec Pod Dębem\, Biskupiec\, Wilimy 5\, Biskupiec\, warmińsko-mazurskie\, 11-300\, Poland
CATEGORIES:Gravel
ATTACH;FMTTYPE=image/png:https://dlugidystansrowerem.pl/wp-content/uploads/2021/01/gr8-lakes-gravel-logo-2021.png
END:VEVENT
BEGIN:VEVENT
DTSTART;VALUE=DATE:20210703
DTEND;VALUE=DATE:20210705
DTSTAMP:20260420T015043
CREATED:20210121T114951Z
LAST-MODIFIED:20210121T114951Z
UID:2638-1625270400-1625443199@dlugidystansrowerem.pl
SUMMARY:Pierścień Tysiąca Jezior - 330 km\, 610 km
DESCRIPTION:Pierścień Tysiąca Jezior na mapie rowerowych ultramaratonów istnieje już od kilku dobrych lat. Rozgrywany jest na terenach warmii\, mazur a nawet podlasia. Północno wschodni rejon Polski słynie z malowniczych\, mazurskich jezior\, a niewielki stopień zurbanizowania daje poczucie oderwania się od zgiełku dużych miast. \nTrudności z jakimi uczestnicy mogą się zmierzyć podczas tego ultramaratonu to pofałdowany teren oraz nawierzchnia drogi. Mimo\, że asfaltowa\, to jednak dość zniszczona aby momentami odebrać przyjemność z jazdy nawet na szerszych szosowych oponach. \nOrganizator przygotował dwa dystanse do wyboru: \n\nPierścień Tysiąca Jezior: 610 km\,\nMały Pierścień Tysiąca Jezior: 330 km.\n\nUkończenie dystansu 610 km w limicie czasu 36 godzin zapewnia uzyskanie kwalifikacji do Bałtyk Bieszczady Tour na rok 2022.
URL:https://dlugidystansrowerem.pl/event/pierscien-tysiaca-jezior-330-km-610-km/
LOCATION:Świękitki\, Świękitki 1A\, Świękity\, 11-135\, Polska
CATEGORIES:Szosa
ATTACH;FMTTYPE=image/png:https://dlugidystansrowerem.pl/wp-content/uploads/2021/01/pierscien-tysiaca-jezior-logo-610-km.png
END:VEVENT
END:VCALENDAR