BEGIN:VCALENDAR
VERSION:2.0
PRODID:-//Długi Dystans Rowerem - ECPv6.15.17//NONSGML v1.0//EN
CALSCALE:GREGORIAN
METHOD:PUBLISH
X-ORIGINAL-URL:https://dlugidystansrowerem.pl
X-WR-CALDESC:Wydarzenia dla Długi Dystans Rowerem
REFRESH-INTERVAL;VALUE=DURATION:PT1H
X-Robots-Tag:noindex
X-PUBLISHED-TTL:PT1H
BEGIN:VTIMEZONE
TZID:Europe/Warsaw
BEGIN:DAYLIGHT
TZOFFSETFROM:+0100
TZOFFSETTO:+0200
TZNAME:CEST
DTSTART:20200329T010000
END:DAYLIGHT
BEGIN:STANDARD
TZOFFSETFROM:+0200
TZOFFSETTO:+0100
TZNAME:CET
DTSTART:20201025T010000
END:STANDARD
BEGIN:DAYLIGHT
TZOFFSETFROM:+0100
TZOFFSETTO:+0200
TZNAME:CEST
DTSTART:20210328T010000
END:DAYLIGHT
BEGIN:STANDARD
TZOFFSETFROM:+0200
TZOFFSETTO:+0100
TZNAME:CET
DTSTART:20211031T010000
END:STANDARD
BEGIN:DAYLIGHT
TZOFFSETFROM:+0100
TZOFFSETTO:+0200
TZNAME:CEST
DTSTART:20220327T010000
END:DAYLIGHT
BEGIN:STANDARD
TZOFFSETFROM:+0200
TZOFFSETTO:+0100
TZNAME:CET
DTSTART:20221030T010000
END:STANDARD
END:VTIMEZONE
BEGIN:VEVENT
DTSTART;VALUE=DATE:20210903
DTEND;VALUE=DATE:20210906
DTSTAMP:20260420T074118
CREATED:20210125T210219Z
LAST-MODIFIED:20210125T101130Z
UID:2731-1630627200-1630886399@dlugidystansrowerem.pl
SUMMARY:Duży Piękny Zachód - 1001 km
DESCRIPTION:REGULAMIN ULTRAMARATONU „DUŻY PIĘKNY ZACHÓD 1001 km NON STOP” – 4 EDYCJA (CYKL „HUZAR CUP”) \nW ULTRAMARATNIE MOGĄ UCZESTNICZYĆ TYLKO CI KTÓRZY UKOŃCZYLI GDZIEKOLWIEK UDOKUMENTOWANY DYSTANS CO NAJMNIEJ 500 – 700 KM NON STOP W LIMITACH CZASOWYCH . \nMaraton 1001 km wymagają bardzo dobrej zaprawy w turystyce rowerowej.\nOdbędzie się na terenie pagórkowato – górzystym z sumą przewyższeń około 10 000 – 11 000 m\nNa starcie uczestnicy podzieleni będą na 6 osobowe grupy wyruszające w odstępach 5 minut.\nUczestników dla 1001 km obowiązuje limit czasu: 70 godzin i zostanie rozegrany tylko w kategorii OPEN\nDuży Punkt Kontrolny dla 1001 km Biały Kościół  km oraz Kudowa Zdrój – ciepły posiłek\, możliwość wzięcia prysznica i spania oraz przepak.\n• Punkt Kontrolny żywnościowy – ilość od 4- 5 w zależności od możliwości organizacyjnych – przewidywana lokalizacja to: Gostyń\, Księginice\, Biały Kosciół\, Kudowa Zdrój\, Ludwikowice\, Kościelniki Górne\, Lubsko\, Niesulice. \nUWAGA: Baza maratonu\, start i meta: Hotel Łężeczki Ponania  lub Ośrodek Wypoczynkowy IRENA – TAM GDZIE ZAWSZE Ośrodek Wczasowy Ewa i Jarek. \nOpis pochodzi ze strony internetowej Organizatora. Administrator Portalu dokłada wszelkich starań aby informacje tutaj zawarte były aktualne i zgodne ze stanem podawanym przez Organizatora\, jednak nie bierze za nie odpowiedzialności. Zalecamy zapoznać się z regulaminem imprezy dostępnym na oficjalnej stronie wydarzenia oraz śledzić komunikaty startowe.
URL:https://dlugidystansrowerem.pl/event/duzy-piekny-zachod-1001-km-2/
LOCATION:Ośrodek Wypoczynkowy Irena w Niesulicach\, Niesulice 17D\, Skąpe\, 66-213\, Polska
CATEGORIES:Huzar Cup,Szosa
ATTACH;FMTTYPE=image/png:https://dlugidystansrowerem.pl/wp-content/uploads/2019/11/Logo-Piekny-Zachód.png
END:VEVENT
END:VCALENDAR