BEGIN:VCALENDAR
VERSION:2.0
PRODID:-//Długi Dystans Rowerem - ECPv6.15.20//NONSGML v1.0//EN
CALSCALE:GREGORIAN
METHOD:PUBLISH
X-WR-CALNAME:Długi Dystans Rowerem
X-ORIGINAL-URL:https://dlugidystansrowerem.pl
X-WR-CALDESC:Wydarzenia dla Długi Dystans Rowerem
REFRESH-INTERVAL;VALUE=DURATION:PT1H
X-Robots-Tag:noindex
X-PUBLISHED-TTL:PT1H
BEGIN:VTIMEZONE
TZID:Europe/Warsaw
BEGIN:DAYLIGHT
TZOFFSETFROM:+0100
TZOFFSETTO:+0200
TZNAME:CEST
DTSTART:20200329T010000
END:DAYLIGHT
BEGIN:STANDARD
TZOFFSETFROM:+0200
TZOFFSETTO:+0100
TZNAME:CET
DTSTART:20201025T010000
END:STANDARD
BEGIN:DAYLIGHT
TZOFFSETFROM:+0100
TZOFFSETTO:+0200
TZNAME:CEST
DTSTART:20210328T010000
END:DAYLIGHT
BEGIN:STANDARD
TZOFFSETFROM:+0200
TZOFFSETTO:+0100
TZNAME:CET
DTSTART:20211031T010000
END:STANDARD
BEGIN:DAYLIGHT
TZOFFSETFROM:+0100
TZOFFSETTO:+0200
TZNAME:CEST
DTSTART:20220327T010000
END:DAYLIGHT
BEGIN:STANDARD
TZOFFSETFROM:+0200
TZOFFSETTO:+0100
TZNAME:CET
DTSTART:20221030T010000
END:STANDARD
END:VTIMEZONE
BEGIN:VEVENT
DTSTART;VALUE=DATE:20210812
DTEND;VALUE=DATE:20210816
DTSTAMP:20260423T155626
CREATED:20210125T190355Z
LAST-MODIFIED:20210125T071128Z
UID:2708-1628726400-1629071999@dlugidystansrowerem.pl
SUMMARY:P-G-R  500 km
DESCRIPTION:P-G-R czyli Poland Gravel Race. \nTrasa PGR liczy 500 km i ok 10 000m podjazdów. Choć wymagająca\, to ciekawa i całkowicie przejezdna. Przemierzamy Pogórze Przemyskie\, Bieszczady\, Beskid Niski\, Beskid Sądecki\, Pieniny i Tatry. \n  \nOpis pochodzi ze strony internetowej Organizatora. Administrator Portalu dokłada wszelkich starań aby informacje tutaj zawarte były aktualne i zgodne ze stanem podawanym przez Organizatora\, jednak nie bierze za nie odpowiedzialności. Zalecamy zapoznać się z regulaminem imprezy dostępnym na oficjalnej stronie wydarzenia oraz śledzić komunikaty startowe.
URL:https://dlugidystansrowerem.pl/event/p-g-r-500-km/
LOCATION:Plac Niepodległości Przemyśl\, Przemyśl\, podkarpackie\, Poland
CATEGORIES:Gravel
ATTACH;FMTTYPE=image/png:https://dlugidystansrowerem.pl/wp-content/uploads/2019/12/poland-gravel-race-logo.png
END:VEVENT
END:VCALENDAR