BEGIN:VCALENDAR
VERSION:2.0
PRODID:-//Długi Dystans Rowerem - ECPv6.15.17//NONSGML v1.0//EN
CALSCALE:GREGORIAN
METHOD:PUBLISH
X-WR-CALNAME:Długi Dystans Rowerem
X-ORIGINAL-URL:https://dlugidystansrowerem.pl
X-WR-CALDESC:Wydarzenia dla Długi Dystans Rowerem
REFRESH-INTERVAL;VALUE=DURATION:PT1H
X-Robots-Tag:noindex
X-PUBLISHED-TTL:PT1H
BEGIN:VTIMEZONE
TZID:Europe/Warsaw
BEGIN:DAYLIGHT
TZOFFSETFROM:+0100
TZOFFSETTO:+0200
TZNAME:CEST
DTSTART:20210328T010000
END:DAYLIGHT
BEGIN:STANDARD
TZOFFSETFROM:+0200
TZOFFSETTO:+0100
TZNAME:CET
DTSTART:20211031T010000
END:STANDARD
BEGIN:DAYLIGHT
TZOFFSETFROM:+0100
TZOFFSETTO:+0200
TZNAME:CEST
DTSTART:20220327T010000
END:DAYLIGHT
BEGIN:STANDARD
TZOFFSETFROM:+0200
TZOFFSETTO:+0100
TZNAME:CET
DTSTART:20221030T010000
END:STANDARD
BEGIN:DAYLIGHT
TZOFFSETFROM:+0100
TZOFFSETTO:+0200
TZNAME:CEST
DTSTART:20230326T010000
END:DAYLIGHT
BEGIN:STANDARD
TZOFFSETFROM:+0200
TZOFFSETTO:+0100
TZNAME:CET
DTSTART:20231029T010000
END:STANDARD
BEGIN:DAYLIGHT
TZOFFSETFROM:+0100
TZOFFSETTO:+0200
TZNAME:CEST
DTSTART:20240331T010000
END:DAYLIGHT
BEGIN:STANDARD
TZOFFSETFROM:+0200
TZOFFSETTO:+0100
TZNAME:CET
DTSTART:20241027T010000
END:STANDARD
BEGIN:DAYLIGHT
TZOFFSETFROM:+0100
TZOFFSETTO:+0200
TZNAME:CEST
DTSTART:20250330T010000
END:DAYLIGHT
BEGIN:STANDARD
TZOFFSETFROM:+0200
TZOFFSETTO:+0100
TZNAME:CET
DTSTART:20251026T010000
END:STANDARD
END:VTIMEZONE
BEGIN:VEVENT
DTSTART;TZID=Europe/Warsaw:20240510T060000
DTEND;TZID=Europe/Warsaw:20240513T120000
DTSTAMP:20260420T025316
CREATED:20240113T145610Z
LAST-MODIFIED:20240113T150103Z
UID:7943-1715320800-1715601600@dlugidystansrowerem.pl
SUMMARY:Ultra Race Roztocze
DESCRIPTION:ULTRA RACE ROZTOCZE to ekscytujący ultramaraton rowerowy\, który rozgrywa się w maju na malowniczym Roztoczu. Podczas tego niezwykłego wyścigu\, przemierzysz malownicze szlaki przez lasy\, łąki i wzgórza\, doświadczając pełnej gamy wrażeń przyrody w pełni rozkwitającej na wiosnę. Trasa prowadzi przez zaskakujące bujną zielenią lasy kontrastujące z kolorami kwitnących kwiatów. \nEmocje będą Ci towarzyszyć na każdym kilometrze\, a intensywność wysiłku mieszać się z zachwytem nad pięknem otaczającej przyrody. Klimatyczne warunki w maju dodają wyzwaniu nieprzewidywalności – od chłodnych poranków po ciepłe popołudnia. A zmieniające się warunki atmosferyczne sprawiają\, że musisz być gotowy na wszystko. \nRoztocze słynie również z gościnności lokalnych społeczności\, które wspierają rowerzystów dając im dodatkową energię do pokonywania trasy. Relacje międzyludzkie nabierają tu wyjątkowego znaczenia. Uczestnicy dzielą się doświadczeniami\, wzajemnie wspierają i budują niezapomniane więzi podczas ekstremalnego wysiłku. ULTRA RACE ROZTOCZE to nie tylko wyścig\, to także niepowtarzalna podróż poprzez przyrodę i ludzkie relacje\, gdzie siła wspólnoty staje się kluczowym elementem tego niezwykłego wyzwania rowerowego. \nWybierz swój dystans:\nGIGANTE – 650km przygody – 4500m wspinaczki – start 10.05.2024\nCLASSICO – 350km przygody – 2500m wspinaczki – start 11.05.2024\nPICCOLO – 120km przygody – 1000m wspinaczki – start 12.05.2024
URL:https://dlugidystansrowerem.pl/event/ultra-race-roztocze/
LOCATION:Susiec\, ul. Kolejowa\, Susiec\, Lubelskie\, 22-672
CATEGORIES:Gravel
ATTACH;FMTTYPE=image/jpeg:https://dlugidystansrowerem.pl/wp-content/uploads/2024/01/353767161_247116587950150_2163269832248075391_n.jpg
ORGANIZER;CN="More Ultra Race":MAILTO:patrycja@moreultrarace.pl
END:VEVENT
BEGIN:VEVENT
DTSTART;VALUE=DATE:20220514
DTEND;VALUE=DATE:20220516
DTSTAMP:20260420T025316
CREATED:20220102T145655Z
LAST-MODIFIED:20220102T145655Z
UID:3228-1652486400-1652659199@dlugidystansrowerem.pl
SUMMARY:Roztoczańsko Poleski Ultramaraton Rowerowy (200\, 500 km)
DESCRIPTION:To już druga edycja Roztoczańsko Poleskiego Ultramaratonu Rowerowego. Spontaniczna edycja sprzed roku tak się spodoba uczestnikom\, że organizatorzy postanowili rozwinąć skrzydła i nadać imprezie ogólnopolskiego charakteru. To za sprawą nawiązania współpracy z organizatorami Bałtyk Bieszczady Tour oraz Pucharu Polski w Ultramaratonach Kolarskich. \nNa uczestników czekają dwie trasy do wyboru o dystansie 200 i 500 km.
URL:https://dlugidystansrowerem.pl/event/roztoczansko-poleski-ultramaraton-rowerowy/
LOCATION:Sklep Rowerowy Piękny Gzech\, Chełm\, Lwowska 24\, Chełm\, lubelskie\, 22-100\, Poland
ATTACH;FMTTYPE=image/jpeg:https://dlugidystansrowerem.pl/wp-content/uploads/2022/01/Roztoczansko-Poleski-Ultramaraton-Rowerowy.jpg
ORGANIZER;CN="Che%C5%82mskie Stowarzyszenie Inicjatyw Spo%C5%82ecznych":MAILTO:ultramaraton@rowerowychelm.pl
END:VEVENT
BEGIN:VEVENT
DTSTART;VALUE=DATE:20220514
DTEND;VALUE=DATE:20220515
DTSTAMP:20260420T025316
CREATED:20210120T214214Z
LAST-MODIFIED:20220102T144030Z
UID:2546-1652486400-1652572799@dlugidystansrowerem.pl
SUMMARY:Brevet - Roztocze Zwierzyniec "Gródki" (200 km)
DESCRIPTION:
URL:https://dlugidystansrowerem.pl/event/brevet-roztocze-zwierzyniec/
LOCATION:Lubelskie
CATEGORIES:Szosa
ATTACH;FMTTYPE=image/png:https://dlugidystansrowerem.pl/wp-content/uploads/2021/01/fundacja-randonneurs-polska.png
END:VEVENT
END:VCALENDAR