BEGIN:VCALENDAR
VERSION:2.0
PRODID:-//Długi Dystans Rowerem - ECPv6.15.20//NONSGML v1.0//EN
CALSCALE:GREGORIAN
METHOD:PUBLISH
X-WR-CALNAME:Długi Dystans Rowerem
X-ORIGINAL-URL:https://dlugidystansrowerem.pl
X-WR-CALDESC:Wydarzenia dla Długi Dystans Rowerem
REFRESH-INTERVAL;VALUE=DURATION:PT1H
X-Robots-Tag:noindex
X-PUBLISHED-TTL:PT1H
BEGIN:VTIMEZONE
TZID:Europe/Warsaw
BEGIN:DAYLIGHT
TZOFFSETFROM:+0100
TZOFFSETTO:+0200
TZNAME:CEST
DTSTART:20200329T010000
END:DAYLIGHT
BEGIN:STANDARD
TZOFFSETFROM:+0200
TZOFFSETTO:+0100
TZNAME:CET
DTSTART:20201025T010000
END:STANDARD
BEGIN:DAYLIGHT
TZOFFSETFROM:+0100
TZOFFSETTO:+0200
TZNAME:CEST
DTSTART:20210328T010000
END:DAYLIGHT
BEGIN:STANDARD
TZOFFSETFROM:+0200
TZOFFSETTO:+0100
TZNAME:CET
DTSTART:20211031T010000
END:STANDARD
BEGIN:DAYLIGHT
TZOFFSETFROM:+0100
TZOFFSETTO:+0200
TZNAME:CEST
DTSTART:20220327T010000
END:DAYLIGHT
BEGIN:STANDARD
TZOFFSETFROM:+0200
TZOFFSETTO:+0100
TZNAME:CET
DTSTART:20221030T010000
END:STANDARD
BEGIN:DAYLIGHT
TZOFFSETFROM:+0100
TZOFFSETTO:+0200
TZNAME:CEST
DTSTART:20230326T010000
END:DAYLIGHT
BEGIN:STANDARD
TZOFFSETFROM:+0200
TZOFFSETTO:+0100
TZNAME:CET
DTSTART:20231029T010000
END:STANDARD
BEGIN:DAYLIGHT
TZOFFSETFROM:+0100
TZOFFSETTO:+0200
TZNAME:CEST
DTSTART:20240331T010000
END:DAYLIGHT
BEGIN:STANDARD
TZOFFSETFROM:+0200
TZOFFSETTO:+0100
TZNAME:CET
DTSTART:20241027T010000
END:STANDARD
BEGIN:DAYLIGHT
TZOFFSETFROM:+0100
TZOFFSETTO:+0200
TZNAME:CEST
DTSTART:20250330T010000
END:DAYLIGHT
BEGIN:STANDARD
TZOFFSETFROM:+0200
TZOFFSETTO:+0100
TZNAME:CET
DTSTART:20251026T010000
END:STANDARD
END:VTIMEZONE
BEGIN:VEVENT
DTSTART;TZID=Europe/Warsaw:20240629T063000
DTEND;TZID=Europe/Warsaw:20240630T120000
DTSTAMP:20260423T162254
CREATED:20240113T144907Z
LAST-MODIFIED:20240113T144907Z
UID:7951-1719642600-1719748800@dlugidystansrowerem.pl
SUMMARY:Pogranicza Gravel 2024
DESCRIPTION:Pogranicze województw. Pogranicze regionu Kujaw i Wielkopolski. Historyczne pogranicze dwóch zaborów – niemieckiego i ruskiego (vel. pruskiego i rosyjskiego). Pomysł na Pograniczagravel 2024 to chęć zaprezentowania tych okolic szerszej rzeszy miłośników włóczęgi rowerowej (nie wyłączając romantycznych ścigaczy). Teren kujawskiego pojezierza i wschodniej części pojezierza gnieźnieńskiego powoli zatraca swój charakter. Jeziora wysychają\, ziemia stepowieje\, polne drogi zanikają. Być może to ostatnie lata\, aby poczuć „smak” tych okolic.
URL:https://dlugidystansrowerem.pl/event/pogranicza-gravel-2024/
LOCATION:Radziejów\, Sportowa 1\, Radziejów\, Kujawsko-Pomorskie\, 88-200\, Poland
CATEGORIES:Gravel
ATTACH;FMTTYPE=image/png:https://dlugidystansrowerem.pl/wp-content/uploads/2024/01/POGRANICZA.png
END:VEVENT
BEGIN:VEVENT
DTSTART;VALUE=DATE:20230415
DTEND;VALUE=DATE:20230417
DTSTAMP:20260423T162254
CREATED:20230105T224139Z
LAST-MODIFIED:20230105T224139Z
UID:6980-1681516800-1681689599@dlugidystansrowerem.pl
SUMMARY:100 Jezior #GRAVEL
DESCRIPTION:Twój początek sezonu gravel-ultra w bajecznej krainie Pojezierza Wielkopolskiego. Dobry początek- to najlepsza przygoda! Zatrać się w przygodzie 100 jezior #GRVL… \nPrzejechawszy trasę po raz kolejny doszliśmy do wniosku\, że trzeba się tym pochwalić i szerzyć tę piękną nowinę  pokazując światu niepowtarzalny\, gravelowy potencjał drzemiący w krainie wielkopolskich jezior i  przeżyć to wspólnie  już na samym początku sezonu 🙂 \nTrasa przebiega przez bajeczne tereny szutrowe przy sąsiadujących z bogactwem jezior regionu polach i łąkach. Z terenów zalesionych występują  głównie iglaste lasy parków krajobrazowych z licznymi gatunkami flory stepowej.  Taki krajobraz z osadzonymi również licznymi asfaltowymi fragmentami  przez kilka kolejnych jezior – wciąż w  tym jednakże pięknym anturażu czeka nas aż do  południowego brzegu jeziora Gopło. \nTrasa o szybkim charakterze\, niskim / średnim stopniu trudności. ~260 km\, ok 1300 m przewyższeń.
URL:https://dlugidystansrowerem.pl/event/100-jezior-gravel/
LOCATION:Dom Wypoczynkowy „Pod Strzecha” W Giewartowie\, Grota Roweckiego 155\, Giewartów\, wielkopolskie\, 62-402\, Poland
CATEGORIES:Gravel
ATTACH;FMTTYPE=image/jpeg:https://dlugidystansrowerem.pl/wp-content/uploads/2023/01/100-jezior-gravel.jpg
ORGANIZER;CN="Lajkbajk":MAILTO:bajklajk@gmail.com
END:VEVENT
BEGIN:VEVENT
DTSTART;VALUE=DATE:20220611
DTEND;VALUE=DATE:20220613
DTSTAMP:20260423T162254
CREATED:20210121T113137Z
LAST-MODIFIED:20220110T213952Z
UID:2504-1654905600-1655078399@dlugidystansrowerem.pl
SUMMARY:Pyra Trail (300 km)
DESCRIPTION:Wielkopolski Maraton Gravelowy Pyra Trail w roku 2022 rozegrany zostanie już po raz trzeci. Tym samym po raz pierwszy zamknięty zostanie cykl pucharowy Pyra Trail\, obejmujący start w trzech kolejnych maratonach Pyra Trail. \nDystans: 300 km\nPrzewyższenia: ok 1200 m (płasko)\nLimit czasu: 24 godziny
URL:https://dlugidystansrowerem.pl/event/pyra-trail-300-km/
LOCATION:Prusinowo\, Prusinowo\, Poland
CATEGORIES:Gravel
ATTACH;FMTTYPE=image/png:https://dlugidystansrowerem.pl/wp-content/uploads/2021/01/pyra-trail-logo.png
END:VEVENT
BEGIN:VEVENT
DTSTART;VALUE=DATE:20210807
DTEND;VALUE=DATE:20210809
DTSTAMP:20260423T162254
CREATED:20210125T185329Z
LAST-MODIFIED:20210125T065925Z
UID:2703-1628294400-1628467199@dlugidystansrowerem.pl
SUMMARY:Kórnicki Maraton Turystyczny 300 km\, 500 km
DESCRIPTION:Kórnicki Maraton Turystyczny odbywa się zawsze w pierwszy weekend sierpnia. Start uczestników następuje z bazy w Robakowie (start honorowy)\, a po krótkim dojeździe na rynek w Kórniku maratończycy ruszają w trasę 500 i 300 km (do wyboru) ze startu ostrego. \nOczywiście ów “start ostry” nie oznacza\, że macie rwać nie wiadomo jak szybko do mety – maraton nie ma charakteru wyścigu\, a jest raczej imprezą towarzyską skierowaną do entuzjastów pokonywania długich dystansów na rowerze. \nW KMT każdy\, kto zmierzył się z wybranym dystansem i dojechał do mety – jest zwycięzcą. Nie ma “pierwszych” i “ostatnich”. Jest dobra zabawa\, przygoda i rower. Czyli to\, co lubicie najbardziej. Tak\, jak i my\, organizatorzy\, czyli KBR Kórnik. \n  \nOpis pochodzi ze strony internetowej Organizatora. Administrator Portalu dokłada wszelkich starań aby informacje tutaj zawarte były aktualne i zgodne ze stanem podawanym przez Organizatora\, jednak nie bierze za nie odpowiedzialności. Zalecamy zapoznać się z regulaminem imprezy dostępnym na oficjalnej stronie wydarzenia oraz śledzić komunikaty startowe.
URL:https://dlugidystansrowerem.pl/event/kornicki-maraton-turystyczny-300-km-500-km/
LOCATION:Kujawsko-Pomorskie
CATEGORIES:Szosa
ATTACH;FMTTYPE=image/png:https://dlugidystansrowerem.pl/wp-content/uploads/2021/01/kornicki-maraton-turystyczny-logo.png
END:VEVENT
BEGIN:VEVENT
DTSTART;VALUE=DATE:20210501
DTEND;VALUE=DATE:20210503
DTSTAMP:20260423T162254
CREATED:20210121T080310Z
LAST-MODIFIED:20210121T080310Z
UID:2531-1619827200-1619999999@dlugidystansrowerem.pl
SUMMARY:UltraTime Trial
DESCRIPTION:UltraTime Trial to ultramaraton o charakterze drużynowej i indywidualnej jazdy na czas (w odróżnieniu od tradycyjnych czasówek będzie trwała ona przez 24 godziny non stop).\n\n\n\n\n\nUltramaraton odbędzie się na rundach\, każde okrążenie liczyć będzie 70 km. Dystans oraz czas monitorowane będą na bieżąco i zastopowane zostaną w momencie osiągnięcia limitu czasowego 24 h. Zwycięzcą zostaje osoba\, która w ciągu 24h pokona największą ilość km. Każdy z uczestników pokonać może dowolną liczbę okrążeń w dowolnym czasie (sklasyfikowany zostanie wtedy według przejechanych km i czasu) po osiągnięciu limitu czasowego 24h zawodnik będący na trasie zobowiązany jest wrócić najkrótszą drogą na linię mety.\n\nUczestnicy mogą startować jednej z dwóch kategorii do wyboru: solo lub open.
URL:https://dlugidystansrowerem.pl/event/ultratime-trial-2/
LOCATION:Podpniewki\, Podpniewki\, wielkopolskie\, Poland
CATEGORIES:Szosa
ATTACH;FMTTYPE=image/png:https://dlugidystansrowerem.pl/wp-content/uploads/2019/11/UltraTime-trial_baner.png
END:VEVENT
END:VCALENDAR